BEGIN:VCALENDAR
VERSION:2.0
PRODID:-//Rotary Club of Box Hill Burwood - ECPv6.15.20//NONSGML v1.0//EN
CALSCALE:GREGORIAN
METHOD:PUBLISH
X-ORIGINAL-URL:https://www.boxhillburwoodrotary.org.au
X-WR-CALDESC:Events for Rotary Club of Box Hill Burwood
REFRESH-INTERVAL;VALUE=DURATION:PT1H
X-Robots-Tag:noindex
X-PUBLISHED-TTL:PT1H
BEGIN:VTIMEZONE
TZID:Australia/Melbourne
BEGIN:STANDARD
TZOFFSETFROM:+1100
TZOFFSETTO:+1000
TZNAME:AEST
DTSTART:20240406T160000
END:STANDARD
BEGIN:DAYLIGHT
TZOFFSETFROM:+1000
TZOFFSETTO:+1100
TZNAME:AEDT
DTSTART:20241005T160000
END:DAYLIGHT
BEGIN:STANDARD
TZOFFSETFROM:+1100
TZOFFSETTO:+1000
TZNAME:AEST
DTSTART:20250405T160000
END:STANDARD
BEGIN:DAYLIGHT
TZOFFSETFROM:+1000
TZOFFSETTO:+1100
TZNAME:AEDT
DTSTART:20251004T160000
END:DAYLIGHT
BEGIN:STANDARD
TZOFFSETFROM:+1100
TZOFFSETTO:+1000
TZNAME:AEST
DTSTART:20260404T160000
END:STANDARD
BEGIN:DAYLIGHT
TZOFFSETFROM:+1000
TZOFFSETTO:+1100
TZNAME:AEDT
DTSTART:20261003T160000
END:DAYLIGHT
END:VTIMEZONE
BEGIN:VEVENT
DTSTART;TZID=Australia/Melbourne:20251113T100000
DTEND;TZID=Australia/Melbourne:20251116T180000
DTSTAMP:20260425T140306
CREATED:20250927T064226Z
LAST-MODIFIED:20251106T022105Z
UID:4954-1763028000-1763316000@www.boxhillburwoodrotary.org.au
SUMMARY:59th Annual Whitehorse Art Show
DESCRIPTION:The Rotary Club of Box Hill Burwood is proud to present the annual Whitehorse Art Show 2025 in the magnificent Box Hill Town Hall. \nThis will be the 59th Annual Art Show held within the City of Whitehorse and provide an outlet for quality artists to display and sell their work. \nThe Box Hill Burwood Rotary Whitehorse Art Show will be held in the Box Hill Town Hall\, 1022 Whitehorse Road\, Box Hill from Thursday 13th of November 2025 to Sunday 16th of November 2025. Ample parking is available in either the Town Hall grounds or in the immediate vicinity. Times:- Mon to Sat 10am to 6pm.  Sun 10am to 4pm \nTickets for the Opening Night Gala 2-course Dinner (including drinks) on Wednesday 12th of November 2025 will be available from 1 September 2025. Ticket price is $85 per person\, ($80 for Rotarians). This includes a preview of the exhibition and first option to purchase any exhibit. \nAn admission fee of $10 per person ($5 concession) will be charged to view the exhibition from Thursday 13th of November 2025 to Sunday 16th of November 2025. No charge for students or minors. \nThere is no charge for the quality exhibition catalogue. \nHours: Wednesday 12th November – Art Show Gala Dinner and Preview Night 5pm – 10pm \nThursday 13th – Saturday 15th – 10:00am – 6:00pm\, Sunday 16th  10:00am – 4:00pm \nProudly Sponsored by:
URL:https://www.boxhillburwoodrotary.org.au/event/59th-annual-whitehorse-arts-show/
LOCATION:Box Hill Town Hall\, 1022 Whitehorse Road\, Box Hill\, Victoria\, 3128\, Australia
CATEGORIES:Whitehorse Art Show
ATTACH;FMTTYPE=image/jpeg:https://www.boxhillburwoodrotary.org.au/wp-content/uploads/2025/09/Gala-Opening-Night-Dinner25v4.jpg
END:VEVENT
END:VCALENDAR