BEGIN:VCALENDAR
VERSION:2.0
PRODID:-//Rotary Club of Box Hill Burwood - ECPv6.15.20//NONSGML v1.0//EN
CALSCALE:GREGORIAN
METHOD:PUBLISH
X-ORIGINAL-URL:https://www.boxhillburwoodrotary.org.au
X-WR-CALDESC:Events for Rotary Club of Box Hill Burwood
REFRESH-INTERVAL;VALUE=DURATION:PT1H
X-Robots-Tag:noindex
X-PUBLISHED-TTL:PT1H
BEGIN:VTIMEZONE
TZID:Australia/Melbourne
BEGIN:STANDARD
TZOFFSETFROM:+1100
TZOFFSETTO:+1000
TZNAME:AEST
DTSTART:20250405T160000
END:STANDARD
BEGIN:DAYLIGHT
TZOFFSETFROM:+1000
TZOFFSETTO:+1100
TZNAME:AEDT
DTSTART:20251004T160000
END:DAYLIGHT
BEGIN:STANDARD
TZOFFSETFROM:+1100
TZOFFSETTO:+1000
TZNAME:AEST
DTSTART:20260404T160000
END:STANDARD
BEGIN:DAYLIGHT
TZOFFSETFROM:+1000
TZOFFSETTO:+1100
TZNAME:AEDT
DTSTART:20261003T160000
END:DAYLIGHT
BEGIN:STANDARD
TZOFFSETFROM:+1100
TZOFFSETTO:+1000
TZNAME:AEST
DTSTART:20270403T160000
END:STANDARD
BEGIN:DAYLIGHT
TZOFFSETFROM:+1000
TZOFFSETTO:+1100
TZNAME:AEDT
DTSTART:20271002T160000
END:DAYLIGHT
END:VTIMEZONE
BEGIN:VEVENT
DTSTART;TZID=Australia/Melbourne:20260201T090000
DTEND;TZID=Australia/Melbourne:20260410T170000
DTSTAMP:20260422T004257
CREATED:20260127T234646Z
LAST-MODIFIED:20260127T235435Z
UID:5003-1769936400-1775840400@www.boxhillburwoodrotary.org.au
SUMMARY:Community Grants 2026 Open
DESCRIPTION:Each year\, our club proudly supports local organisations\, schools\, and community groups who are making a real difference in the lives of people across Box Hill\, Burwood\, and surrounding neighbourhoods. These grants help bring to life projects that strengthen community wellbeing\, enhance social connection\, and create positive\, lasting impact. \nIf your organisation is working on an initiative that aligns with Rotary’s values — whether it’s supporting youth\, improving mental health\, fostering inclusion\, promoting the arts\, protecting the environment\, or addressing local needs — we encourage you to apply. \nKey details: \n\nApplications open today\nGrants are available for a wide range of community-focused projects\nAll eligible groups are warmly invited to submit a proposal\nFull guidelines and application forms are available on our website\n\nRotary is built on the belief that when passionate people come together\, great things happen. We look forward to partnering with local groups who share our commitment to service\, innovation\, and community spirit. \nIf you have any questions or need assistance with your application\, please reach out — we’re here to help. \nWe can’t wait to see the inspiring projects our community brings forward. Thank you\, and best of luck to all applicants. \n 
URL:https://www.boxhillburwoodrotary.org.au/event/community-grants-2026-open/
LOCATION:VIC
ATTACH;FMTTYPE=image/jpeg:https://www.boxhillburwoodrotary.org.au/wp-content/uploads/2026/01/Community-Grants-Program26.jpg
END:VEVENT
BEGIN:VEVENT
DTSTART;TZID=Australia/Melbourne:20260303T183000
DTEND;TZID=Australia/Melbourne:20260303T193000
DTSTAMP:20260422T004257
CREATED:20260302T021042Z
LAST-MODIFIED:20260302T065055Z
UID:5016-1772562600-1772566200@www.boxhillburwoodrotary.org.au
SUMMARY:Guest Speaker - Janette Etherington - Interplast
DESCRIPTION:Join us as we hear from our Guest Speaker – Janette Etherington from Interplast. \nInterplast sends volunteer surgeons\, anaesthetists\, nurses\, and allied health professionals across the Asia–Pacific region to provide reconstructive surgery and\, just as importantly\, to train local medical teams so the impact continues long after each visit. \nIt’s a program that restores dignity\, mobility\, and opportunity to people who would otherwise go without care — and it reflects Rotary’s belief in practical\, hands‑on service that changes lives. \nPlease join us in welcoming our speaker\, who will share the remarkable work Interplast is doing and the difference it makes in communities across our region. \nMeeting in the Upton Room\, Box Hill RSL\n6:15 pm for 6:30pm start\, 3rd March\, 2026 \nOr join via Zoom on link on home page\nDinner is available in the RSL Bistro following the meeting.
URL:https://www.boxhillburwoodrotary.org.au/event/5016/
LOCATION:Box Hill RSL\, 26-28 Nelson Road\, Box Hill\, VIC\, 3128\, Australia
CATEGORIES:Guest Speakers
ATTACH;FMTTYPE=image/jpeg:https://www.boxhillburwoodrotary.org.au/wp-content/uploads/2026/03/interplast.jpg
END:VEVENT
BEGIN:VEVENT
DTSTART;TZID=Australia/Melbourne:20260308T080000
DTEND;TZID=Australia/Melbourne:20260308T130000
DTSTAMP:20260422T004257
CREATED:20260127T235029Z
LAST-MODIFIED:20260302T023942Z
UID:5005-1772956800-1772974800@www.boxhillburwoodrotary.org.au
SUMMARY:Whitehorse Farmers Market
DESCRIPTION:The market has been run by Rotarian volunteers each and every month since 2006 and is held in the 2nd Sunday of the month. \nThe Whitehorse Farmers’ Market provides the community with direct access to fresh farm-sourced and organic food products and gives suppliers a local venue for business. \nIt has a wide range of stalls and a good balance of produce from fruit\, vegetables and meats through to bread\, cakes\, pasta\, eggs\, chutneys and olive oils etc. You can also enjoy a bacon & egg sandwich and a freshly brewed coffee \nThe market is operated by the combined Whitehorse Rotary Group on behalf of Council. \nThe whole community receives a range of economic\, social and health benefits from the market with a commitment by Rotary to put all the funds they raise towards community projects in Whitehorse. \nThe Whitehorse Rotary Group comprises the Rotaract Club of Whitehorse and the Rotary Clubs of Box Hill\, Box Hill Central\, Forest Hill\, Mitcham\, Mont Albert and Surrey Hills (MASH) and Nunawading. \nPlastic Bag Free Market – The Farmers’ Market is a ‘plastic bag free market’ so please do not forget to bring along your own re-usable bags. \nThe market is held in the grounds of the Nunawading Civic Centre\, Maroondah
URL:https://www.boxhillburwoodrotary.org.au/event/whitehorse-farmers-market-31/
LOCATION:Whitehorse Civic Centre\, 379 Whitehorse Road\, Nunawading\, VIC\, Australia
ATTACH;FMTTYPE=image/jpeg:https://www.boxhillburwoodrotary.org.au/wp-content/uploads/2022/10/whitehorse-market-darryls-peanut-butter-stall.jpg
END:VEVENT
BEGIN:VEVENT
DTSTART;TZID=Australia/Melbourne:20260317T183000
DTEND;TZID=Australia/Melbourne:20260317T193000
DTSTAMP:20260422T004257
CREATED:20260302T022153Z
LAST-MODIFIED:20260302T023015Z
UID:5022-1773772200-1773775800@www.boxhillburwoodrotary.org.au
SUMMARY:Guest Speaker - District Governor Peter Behm
DESCRIPTION:Join us as we hear from our Guest Speaker – District Governor Peter Behm. \nA special night with Peter as he tells us about our Rotary District \nMeeting in the Upton Room\, Box Hill RSL\n6:15 pm for 6:30pm start\, 17th March\, 2026 \nOr join via Zoom on link on home page\nDinner is available in the RSL Bistro following the meeting.
URL:https://www.boxhillburwoodrotary.org.au/event/guest-speaker-district-governor-peter-behm/
LOCATION:Box Hill RSL\, 26-28 Nelson Road\, Box Hill\, VIC\, 3128\, Australia
CATEGORIES:Guest Speakers
ATTACH;FMTTYPE=image/jpeg:https://www.boxhillburwoodrotary.org.au/wp-content/uploads/2026/03/Peter-Behm.jpg
END:VEVENT
END:VCALENDAR