BEGIN:VCALENDAR
VERSION:2.0
PRODID:-//Rotary Club of Box Hill Burwood - ECPv6.15.20//NONSGML v1.0//EN
CALSCALE:GREGORIAN
METHOD:PUBLISH
X-ORIGINAL-URL:https://www.boxhillburwoodrotary.org.au
X-WR-CALDESC:Events for Rotary Club of Box Hill Burwood
REFRESH-INTERVAL;VALUE=DURATION:PT1H
X-Robots-Tag:noindex
X-PUBLISHED-TTL:PT1H
BEGIN:VTIMEZONE
TZID:Australia/Melbourne
BEGIN:STANDARD
TZOFFSETFROM:+1100
TZOFFSETTO:+1000
TZNAME:AEST
DTSTART:20240406T160000
END:STANDARD
BEGIN:DAYLIGHT
TZOFFSETFROM:+1000
TZOFFSETTO:+1100
TZNAME:AEDT
DTSTART:20241005T160000
END:DAYLIGHT
BEGIN:STANDARD
TZOFFSETFROM:+1100
TZOFFSETTO:+1000
TZNAME:AEST
DTSTART:20250405T160000
END:STANDARD
BEGIN:DAYLIGHT
TZOFFSETFROM:+1000
TZOFFSETTO:+1100
TZNAME:AEDT
DTSTART:20251004T160000
END:DAYLIGHT
BEGIN:STANDARD
TZOFFSETFROM:+1100
TZOFFSETTO:+1000
TZNAME:AEST
DTSTART:20260404T160000
END:STANDARD
BEGIN:DAYLIGHT
TZOFFSETFROM:+1000
TZOFFSETTO:+1100
TZNAME:AEDT
DTSTART:20261003T160000
END:DAYLIGHT
END:VTIMEZONE
BEGIN:VEVENT
DTSTART;TZID=Australia/Melbourne:20250603T180000
DTEND;TZID=Australia/Melbourne:20250603T193000
DTSTAMP:20260424T215246
CREATED:20250423T061725Z
LAST-MODIFIED:20250423T061725Z
UID:4839-1748973600-1748979000@www.boxhillburwoodrotary.org.au
SUMMARY:Guest Speaker - Alli Parker
DESCRIPTION:  \nJoin us for a special evening with an amazing guest speaker – Alli Parker. \nAlli Parker is a Japanese-Australian author and screenwriter who lives on the lands of the Wurundjeri people of the Kulin Nation. \nHer debut novel At the Foot of the Cherry Tree is based on the true story of the first Japanese war bride to arrive in Australia\, Cherry Parker\, who is also Alli’s grandmother. \nThe book became an instant bestseller and was shortlisted for Dymocks Book of the Year and an ABIA Award for Best New Writer. \nShe has written episodes of Jack Irish\, Secret Bridesmaids’ Business and Ms Fisher’s Modern Murder Mysteries and worked in the script departments of Irreverent\, Sunshine and Please Like Me. \nWe look forward and are excited to her from Alli . \n\nMeeting in the Upton Room\, Box Hill RSL\n6pm for 6:15pm start\, 3rd June\, 2025 \nOr join via Zoom on link on home page\nDinner is available in the RSL Bistro following the meeting. \n \n  \n 
URL:https://www.boxhillburwoodrotary.org.au/event/alli-parker-guest-speaker/
LOCATION:Box Hill RSL\, 26-28 Nelson Road\, Box Hill\, VIC\, 3128\, Australia
CATEGORIES:Guest Speakers
ATTACH;FMTTYPE=image/jpeg:https://www.boxhillburwoodrotary.org.au/wp-content/uploads/2025/04/Alli-Parker_30-scaled-e1745388994423.jpg
END:VEVENT
BEGIN:VEVENT
DTSTART;TZID=Australia/Melbourne:20250608T080000
DTEND;TZID=Australia/Melbourne:20250608T130000
DTSTAMP:20260424T215246
CREATED:20250320T045122Z
LAST-MODIFIED:20250320T045123Z
UID:4806-1749369600-1749387600@www.boxhillburwoodrotary.org.au
SUMMARY:Whitehorse Farmers Market
DESCRIPTION:The market has been run by Rotarian volunteers each and every month since 2006 and is held in the 2nd Sunday of the month. \nThe Whitehorse Farmers’ Market provides the community with direct access to fresh farm-sourced and organic food products and gives suppliers a local venue for business. \nIt has a wide range of stalls and a good balance of produce from fruit\, vegetables and meats through to bread\, cakes\, pasta\, eggs\, chutneys and olive oils etc. You can also enjoy a bacon & egg sandwich and a freshly brewed coffee \nThe market is operated by the combined Whitehorse Rotary Group on behalf of Council. \nThe whole community receives a range of economic\, social and health benefits from the market with a commitment by Rotary to put all the funds they raise towards community projects in Whitehorse. \nThe Whitehorse Rotary Group comprises the Rotaract Club of Whitehorse and the Rotary Clubs of Box Hill\, Box Hill Central\, Forest Hill\, Mitcham\, Mont Albert and Surrey Hills (MASH) and Nunawading. \nPlastic Bag Free Market – The Farmers’ Market is a ‘plastic bag free market’ so please do not forget to bring along your own re-usable bags. \nThe market is held in the grounds of the Nunawading Civic Centre\, Maroondah Highway\, Nunawading on the second Sunday of each month from 8.00am to 1.00pm.
URL:https://www.boxhillburwoodrotary.org.au/event/whitehorse-farmers-market-26/
LOCATION:Whitehorse Civic Centre\, 379 Whitehorse Road\, Nunawading\, VIC\, Australia
CATEGORIES:Whitehorse Farmers Market
ATTACH;FMTTYPE=image/jpeg:https://www.boxhillburwoodrotary.org.au/wp-content/uploads/2022/10/whitehorse-market-darryls-peanut-butter-stall.jpg
END:VEVENT
BEGIN:VEVENT
DTSTART;TZID=Australia/Melbourne:20250617T180000
DTEND;TZID=Australia/Melbourne:20250617T193000
DTSTAMP:20260424T215246
CREATED:20250320T025009Z
LAST-MODIFIED:20250320T025009Z
UID:4781-1750183200-1750188600@www.boxhillburwoodrotary.org.au
SUMMARY:Guest Speaker - Leo Chapman - NYSF
DESCRIPTION:Join us as we hear from Leo Chapman – our sponsored student to the National Youth Science Forum. The National Youth Science Forum (NYSF) is a not-for-profit organisation that runs a number of programs to encourage young people in their passion for science. \nLeo will tell us about his experience and his passion for Science. \nWe look forward to hearing from Leo. \n\nMeeting in the Upton Room\, Box Hill RSL\n6pm for 6:15pm start\, 15th April\, 2025 \nOr join via Zoom on link on home page\nDinner is available in the RSL Bistro following the meeting.
URL:https://www.boxhillburwoodrotary.org.au/event/guest-speaker-leo-chapman-nysf/
LOCATION:Box Hill RSL\, 26-28 Nelson Road\, Box Hill\, VIC\, 3128\, Australia
CATEGORIES:Guest Speakers
ATTACH;FMTTYPE=image/jpeg:https://www.boxhillburwoodrotary.org.au/wp-content/uploads/2025/03/250109NYSFlowres-4-310x207-1.jpg
END:VEVENT
END:VCALENDAR