BEGIN:VCALENDAR
VERSION:2.0
PRODID:-//Rotary Club of Box Hill Burwood - ECPv6.15.20//NONSGML v1.0//EN
CALSCALE:GREGORIAN
METHOD:PUBLISH
X-ORIGINAL-URL:https://www.boxhillburwoodrotary.org.au
X-WR-CALDESC:Events for Rotary Club of Box Hill Burwood
REFRESH-INTERVAL;VALUE=DURATION:PT1H
X-Robots-Tag:noindex
X-PUBLISHED-TTL:PT1H
BEGIN:VTIMEZONE
TZID:Australia/Melbourne
BEGIN:STANDARD
TZOFFSETFROM:+1100
TZOFFSETTO:+1000
TZNAME:AEST
DTSTART:20240406T160000
END:STANDARD
BEGIN:DAYLIGHT
TZOFFSETFROM:+1000
TZOFFSETTO:+1100
TZNAME:AEDT
DTSTART:20241005T160000
END:DAYLIGHT
BEGIN:STANDARD
TZOFFSETFROM:+1100
TZOFFSETTO:+1000
TZNAME:AEST
DTSTART:20250405T160000
END:STANDARD
BEGIN:DAYLIGHT
TZOFFSETFROM:+1000
TZOFFSETTO:+1100
TZNAME:AEDT
DTSTART:20251004T160000
END:DAYLIGHT
BEGIN:STANDARD
TZOFFSETFROM:+1100
TZOFFSETTO:+1000
TZNAME:AEST
DTSTART:20260404T160000
END:STANDARD
BEGIN:DAYLIGHT
TZOFFSETFROM:+1000
TZOFFSETTO:+1100
TZNAME:AEDT
DTSTART:20261003T160000
END:DAYLIGHT
END:VTIMEZONE
BEGIN:VEVENT
DTSTART;TZID=Australia/Melbourne:20250304T180000
DTEND;TZID=Australia/Melbourne:20250304T193000
DTSTAMP:20260424T202141
CREATED:20250303T053514Z
LAST-MODIFIED:20250303T053515Z
UID:4757-1741111200-1741116600@www.boxhillburwoodrotary.org.au
SUMMARY:Speaker - Trish Carr - Navigating Rotary
DESCRIPTION:Join us as we learn about Navigating Rotary. Member Trish Carr will give us an overview of how to navigate Rotary websites and access incredible online personal development resources available for members. \nPerhaps you are just interested in learning more about the opportunities Rotary available for members and volunteers. This session will give you an insight and answer questions you may have \n  \nWe look forward to hearing from Trish. \n\nMeeting in the Upton Room\, Box Hill RSL\n6pm for 6:15pm start\, 4th March\, 2025 \nOr join via Zoom on link on home page\nDinner is available in the RSL Bistro following the meeting.
URL:https://www.boxhillburwoodrotary.org.au/event/speaker-trish-carr-navigating-rotary/
LOCATION:Box Hill RSL\, 26-28 Nelson Road\, Box Hill\, VIC\, 3128\, Australia
ATTACH;FMTTYPE=image/jpeg:https://www.boxhillburwoodrotary.org.au/wp-content/uploads/2022/02/PartB_0025-scaled.jpg
END:VEVENT
BEGIN:VEVENT
DTSTART;TZID=Australia/Melbourne:20250309T080000
DTEND;TZID=Australia/Melbourne:20250309T130000
DTSTAMP:20260424T202141
CREATED:20250116T062314Z
LAST-MODIFIED:20250116T062314Z
UID:4722-1741507200-1741525200@www.boxhillburwoodrotary.org.au
SUMMARY:Whitehorse Farmers Market
DESCRIPTION:The market has been run by Rotarian volunteers each and every month since 2006 and is held in the 2nd Sunday of the month. \nThe Whitehorse Farmers’ Market provides the community with direct access to fresh farm-sourced and organic food products and gives suppliers a local venue for business. \nIt has a wide range of stalls and a good balance of produce from fruit\, vegetables and meats through to bread\, cakes\, pasta\, eggs\, chutneys and olive oils etc. You can also enjoy a bacon & egg sandwich and a freshly brewed coffee \nThe market is operated by the combined Whitehorse Rotary Group on behalf of Council. \nThe whole community receives a range of economic\, social and health benefits from the market with a commitment by Rotary to put all the funds they raise towards community projects in Whitehorse. \nThe Whitehorse Rotary Group comprises the Rotaract Club of Whitehorse and the Rotary Clubs of Box Hill\, Box Hill Central\, Forest Hill\, Mitcham\, Mont Albert and Surrey Hills (MASH) and Nunawading. \nPlastic Bag Free Market – The Farmers’ Market is a ‘plastic bag free market’ so please do not forget to bring along your own re-usable bags. \nThe market is held in the grounds of the Nunawading Civic Centre\, Maroondah Highway\, Nunawading on the second Sunday of each month from 8.00am to 1.00pm.
URL:https://www.boxhillburwoodrotary.org.au/event/whitehorse-farmers-market-23/
LOCATION:Whitehorse Civic Centre\, 379 Whitehorse Road\, Nunawading\, VIC\, Australia
CATEGORIES:Whitehorse Farmers Market
ATTACH;FMTTYPE=image/jpeg:https://www.boxhillburwoodrotary.org.au/wp-content/uploads/2022/10/whitehorse-market-darryls-peanut-butter-stall.jpg
END:VEVENT
BEGIN:VEVENT
DTSTART;TZID=Australia/Melbourne:20250318T180000
DTEND;TZID=Australia/Melbourne:20250318T193000
DTSTAMP:20260424T202141
CREATED:20250317T064743Z
LAST-MODIFIED:20250317T064743Z
UID:4764-1742320800-1742326200@www.boxhillburwoodrotary.org.au
SUMMARY:Guest Speaker - Brian Cullen -Whitehorse Colts
DESCRIPTION:Join us as we hear from Brian Cullen – President of the Whitehorse Colts as he tells us about the impact our 2024 Community Grants has had on the club and its members. \nOur 2025 Community Grants are currently open. Grants are a maximum of $3000 each and are available to all groups within the Whitehorse Council area with preference given to those in the Box Hill/Burwood area. More information can be found on the Grants page https://www.boxhillburwoodrotary.org.au/community-grants/ \n\n\nWe look forward to hearing from Brian. \n\nMeeting in the Upton Room\, Box Hill RSL\n6pm for 6:15pm start\, 18th March\, 2025 \nOr join via Zoom on link on home page\nDinner is available in the RSL Bistro following the meeting.
URL:https://www.boxhillburwoodrotary.org.au/event/guest-speaker-brian-cullen-whitehorse-colts/
LOCATION:Box Hill RSL\, 26-28 Nelson Road\, Box Hill\, VIC\, 3128\, Australia
CATEGORIES:Community Grants,Guest Speakers
ATTACH;FMTTYPE=image/jpeg:https://www.boxhillburwoodrotary.org.au/wp-content/uploads/2025/03/fa6f515b-525c-4970-b2a3-6adf4dd20044.jpg
END:VEVENT
BEGIN:VEVENT
DTSTART;TZID=Australia/Melbourne:20250325T180000
DTEND;TZID=Australia/Melbourne:20250325T193000
DTSTAMP:20260424T202141
CREATED:20250320T042417Z
LAST-MODIFIED:20250320T042500Z
UID:4787-1742925600-1742931000@www.boxhillburwoodrotary.org.au
SUMMARY:Social Dinner
DESCRIPTION:Join us for a nice meal\, friendship and a chat. \nAll Welcome
URL:https://www.boxhillburwoodrotary.org.au/event/social-dinner-3/
LOCATION:Box Hill RSL\, 26-28 Nelson Road\, Box Hill\, VIC\, 3128\, Australia
CATEGORIES:Social Dinner
ATTACH;FMTTYPE=image/avif:https://www.boxhillburwoodrotary.org.au/wp-content/uploads/2025/03/dinner-tea-yougov.avif
END:VEVENT
END:VCALENDAR