BEGIN:VCALENDAR
VERSION:2.0
PRODID:-//Rotary Club of Box Hill Burwood - ECPv6.15.20//NONSGML v1.0//EN
CALSCALE:GREGORIAN
METHOD:PUBLISH
X-WR-CALNAME:Rotary Club of Box Hill Burwood
X-ORIGINAL-URL:https://www.boxhillburwoodrotary.org.au
X-WR-CALDESC:Events for Rotary Club of Box Hill Burwood
REFRESH-INTERVAL;VALUE=DURATION:PT1H
X-Robots-Tag:noindex
X-PUBLISHED-TTL:PT1H
BEGIN:VTIMEZONE
TZID:Australia/Melbourne
BEGIN:STANDARD
TZOFFSETFROM:+1100
TZOFFSETTO:+1000
TZNAME:AEST
DTSTART:20210403T160000
END:STANDARD
BEGIN:DAYLIGHT
TZOFFSETFROM:+1000
TZOFFSETTO:+1100
TZNAME:AEDT
DTSTART:20211002T160000
END:DAYLIGHT
BEGIN:STANDARD
TZOFFSETFROM:+1100
TZOFFSETTO:+1000
TZNAME:AEST
DTSTART:20220402T160000
END:STANDARD
BEGIN:DAYLIGHT
TZOFFSETFROM:+1000
TZOFFSETTO:+1100
TZNAME:AEDT
DTSTART:20221001T160000
END:DAYLIGHT
BEGIN:STANDARD
TZOFFSETFROM:+1100
TZOFFSETTO:+1000
TZNAME:AEST
DTSTART:20230401T160000
END:STANDARD
BEGIN:DAYLIGHT
TZOFFSETFROM:+1000
TZOFFSETTO:+1100
TZNAME:AEDT
DTSTART:20230930T160000
END:DAYLIGHT
BEGIN:STANDARD
TZOFFSETFROM:+1100
TZOFFSETTO:+1000
TZNAME:AEST
DTSTART:20240406T160000
END:STANDARD
BEGIN:DAYLIGHT
TZOFFSETFROM:+1000
TZOFFSETTO:+1100
TZNAME:AEDT
DTSTART:20241005T160000
END:DAYLIGHT
END:VTIMEZONE
BEGIN:VEVENT
DTSTART;TZID=Australia/Melbourne:20230127T183000
DTEND;TZID=Australia/Melbourne:20230127T203000
DTSTAMP:20260423T110038
CREATED:20230112T055259Z
LAST-MODIFIED:20230112T055259Z
UID:3457-1674844200-1674851400@www.boxhillburwoodrotary.org.au
SUMMARY:Riversdale Golf Club Social Dinner
DESCRIPTION:Social Dinner for members\, partners and friends of Rotary Club Box Hill Burwood. Contact Ray Rhiem for further details
URL:https://www.boxhillburwoodrotary.org.au/event/riversdale-golf-club-social-dinner/
LOCATION:Riversdale Golf Club\, 200-280 Huntingdale Rd\,\, Mount Waverley\, Victoria\, Australia
END:VEVENT
BEGIN:VEVENT
DTSTART;TZID=Australia/Melbourne:20230117T170000
DTEND;TZID=Australia/Melbourne:20230117T203000
DTSTAMP:20260423T110038
CREATED:20230112T054841Z
LAST-MODIFIED:20230112T054841Z
UID:3453-1673974800-1673987400@www.boxhillburwoodrotary.org.au
SUMMARY:Club Picnic
DESCRIPTION:Annual social club picnic to be held at Surrey Park Drive – Standard Ave Box Hill
URL:https://www.boxhillburwoodrotary.org.au/event/club-picnic/
LOCATION:Surrey Park\, Standard Avenue\, Box Hill
END:VEVENT
BEGIN:VEVENT
DTSTART;TZID=Australia/Melbourne:20221115T180000
DTEND;TZID=Australia/Melbourne:20221115T193000
DTSTAMP:20260423T110038
CREATED:20221008T052050Z
LAST-MODIFIED:20221008T053448Z
UID:3434-1668535200-1668540600@www.boxhillburwoodrotary.org.au
SUMMARY:Club Meeting
DESCRIPTION:Join us at 6:00pm for a 6:15pm meeting in the Upton Room Box Hill RSL \nAll are invited to join the members at the conclusion of the meeting for a social dinner in the Bistro \n1st and 3rd Tuesday of each month
URL:https://www.boxhillburwoodrotary.org.au/event/club-meeting-3/
LOCATION:Box Hill RSL\, 26-28 Nelson Road\, Box Hill\, VIC\, 3128\, Australia
END:VEVENT
BEGIN:VEVENT
DTSTART;TZID=Australia/Melbourne:20221101T180000
DTEND;TZID=Australia/Melbourne:20221101T193000
DTSTAMP:20260423T110038
CREATED:20221008T051957Z
LAST-MODIFIED:20221008T052143Z
UID:3432-1667325600-1667331000@www.boxhillburwoodrotary.org.au
SUMMARY:Club Meeting
DESCRIPTION:Join us at 6:00pm for a 6:15pm meeting in the Upton Room Box Hill RSL \nAll are invited to join the members at the conclusion of the meeting for a social dinner in the Bistro \n1st and 3rd Tuesday of each month
URL:https://www.boxhillburwoodrotary.org.au/event/club-meeting-2/
LOCATION:Box Hill RSL\, 26-28 Nelson Road\, Box Hill\, VIC\, 3128\, Australia
END:VEVENT
BEGIN:VEVENT
DTSTART;TZID=Australia/Melbourne:20221027T100000
DTEND;TZID=Australia/Melbourne:20221030T160000
DTSTAMP:20260423T110038
CREATED:20221007T065354Z
LAST-MODIFIED:20221008T053856Z
UID:3421-1666864800-1667145600@www.boxhillburwoodrotary.org.au
SUMMARY:56th Annual Whitehorse Art Show
DESCRIPTION:The Rotary Club of Box Hill Burwood is again proud to present the annual Whitehorse Art Show 2022 in the magnificent Box Hill Town Hall.\n \nThe 2022 Art Show marks the 56th Annual Art Show held within the City of Whitehorse and provides an outlet for quality artists to display and sell their work. \nThe Box Hill Burwood Rotary Whitehorse Art Show will be held in The Box Hill Town Hall\, 1022 Whitehorse Road\, Box Hill from Thursday 27 October to Sunday 30 October 2022. Ample parking is available in either the Town Hall grounds or in the immediate vicinity. \nTickets for the Opening Night Gala 3-course Dinner (including drinks) on Wednesday 26 October 2022 at 7pm will be available from 1 September 2022. Ticket price is $85 per person. ($80 for Rotarians)\, This includes a preview of the exhibition and first option to purchase any exhibit. \nAn admission fee of $10 per person (payable at the door) will be charged to view the exhibition from Thursday 27 October to Sunday 30 October 2022. No charge for students or minors. \nThere is no charge for the exhibition catalogue. \n  \nGala Dinner Wednesday 26th October \nThursday  – Saturday : 27th to 29th          10:00am – 6:00pm \nSunday 30th:     10:00am – 4:00pm \n 
URL:https://www.boxhillburwoodrotary.org.au/event/56th-annual-whitehorse-art-show/
LOCATION:Box Hill Town Hall\, 1022 Whitehorse Road\, Box Hill\, Victoria\, 3128\, Australia
END:VEVENT
BEGIN:VEVENT
DTSTART;TZID=Australia/Melbourne:20221026T180000
DTEND;TZID=Australia/Melbourne:20221026T223000
DTSTAMP:20260423T110038
CREATED:20221007T065909Z
LAST-MODIFIED:20221008T053314Z
UID:3425-1666807200-1666823400@www.boxhillburwoodrotary.org.au
SUMMARY:Whitehorse Art Show Gala Opening Night Dinner
DESCRIPTION:The 2022 Art Show marks the 56th Annual Art Show held within the City of Whitehorse and provides an outlet for quality artists to display and sell their work. \nTickets for the Opening Night Gala 3-course Dinner (including drinks) on Wednesday 26 October 2022 at 7pm will be available from 1 September 2022. Ticket price is $85 per person. ($80 for Rotarians)\, This includes a preview of the exhibition and first option to purchase any exhibit.
URL:https://www.boxhillburwoodrotary.org.au/event/whitehorse-art-show-gala-opening-night-dinner/
LOCATION:Box Hill Town Hall\, 1022 Whitehorse Road\, Box Hill\, Victoria\, 3128\, Australia
END:VEVENT
BEGIN:VEVENT
DTSTART;TZID=Australia/Melbourne:20221018T180000
DTEND;TZID=Australia/Melbourne:20221018T193000
DTSTAMP:20260423T110038
CREATED:20221008T051730Z
LAST-MODIFIED:20221008T051730Z
UID:3430-1666116000-1666121400@www.boxhillburwoodrotary.org.au
SUMMARY:Club Meeting
DESCRIPTION:Join us at 6:00pm for a 6:15pm meeting in the Upton Room Box Hill RSL \nAll are invited to join the members at the conclusion of the meeting for a social dinner in the Bistro \n1st and 3rd Tuesday of each month
URL:https://www.boxhillburwoodrotary.org.au/event/club-meeting/
LOCATION:Box Hill RSL\, 26-28 Nelson Road\, Box Hill\, VIC\, 3128\, Australia
END:VEVENT
END:VCALENDAR