BEGIN:VCALENDAR
VERSION:2.0
PRODID:-//Rotary Club of Box Hill Burwood - ECPv6.15.20//NONSGML v1.0//EN
CALSCALE:GREGORIAN
METHOD:PUBLISH
X-ORIGINAL-URL:https://www.boxhillburwoodrotary.org.au
X-WR-CALDESC:Events for Rotary Club of Box Hill Burwood
REFRESH-INTERVAL;VALUE=DURATION:PT1H
X-Robots-Tag:noindex
X-PUBLISHED-TTL:PT1H
BEGIN:VTIMEZONE
TZID:Australia/Melbourne
BEGIN:STANDARD
TZOFFSETFROM:+1100
TZOFFSETTO:+1000
TZNAME:AEST
DTSTART:20250405T160000
END:STANDARD
BEGIN:DAYLIGHT
TZOFFSETFROM:+1000
TZOFFSETTO:+1100
TZNAME:AEDT
DTSTART:20251004T160000
END:DAYLIGHT
BEGIN:STANDARD
TZOFFSETFROM:+1100
TZOFFSETTO:+1000
TZNAME:AEST
DTSTART:20260404T160000
END:STANDARD
BEGIN:DAYLIGHT
TZOFFSETFROM:+1000
TZOFFSETTO:+1100
TZNAME:AEDT
DTSTART:20261003T160000
END:DAYLIGHT
BEGIN:STANDARD
TZOFFSETFROM:+1100
TZOFFSETTO:+1000
TZNAME:AEST
DTSTART:20270403T160000
END:STANDARD
BEGIN:DAYLIGHT
TZOFFSETFROM:+1000
TZOFFSETTO:+1100
TZNAME:AEDT
DTSTART:20271002T160000
END:DAYLIGHT
BEGIN:STANDARD
TZOFFSETFROM:+1100
TZOFFSETTO:+1000
TZNAME:AEST
DTSTART:20280401T160000
END:STANDARD
BEGIN:DAYLIGHT
TZOFFSETFROM:+1000
TZOFFSETTO:+1100
TZNAME:AEDT
DTSTART:20280930T160000
END:DAYLIGHT
END:VTIMEZONE
BEGIN:VEVENT
DTSTART;TZID=Australia/Melbourne:20260201T090000
DTEND;TZID=Australia/Melbourne:20260410T170000
DTSTAMP:20260422T040241
CREATED:20260127T234646Z
LAST-MODIFIED:20260127T235435Z
UID:5003-1769936400-1775840400@www.boxhillburwoodrotary.org.au
SUMMARY:Community Grants 2026 Open
DESCRIPTION:Each year\, our club proudly supports local organisations\, schools\, and community groups who are making a real difference in the lives of people across Box Hill\, Burwood\, and surrounding neighbourhoods. These grants help bring to life projects that strengthen community wellbeing\, enhance social connection\, and create positive\, lasting impact. \nIf your organisation is working on an initiative that aligns with Rotary’s values — whether it’s supporting youth\, improving mental health\, fostering inclusion\, promoting the arts\, protecting the environment\, or addressing local needs — we encourage you to apply. \nKey details: \n\nApplications open today\nGrants are available for a wide range of community-focused projects\nAll eligible groups are warmly invited to submit a proposal\nFull guidelines and application forms are available on our website\n\nRotary is built on the belief that when passionate people come together\, great things happen. We look forward to partnering with local groups who share our commitment to service\, innovation\, and community spirit. \nIf you have any questions or need assistance with your application\, please reach out — we’re here to help. \nWe can’t wait to see the inspiring projects our community brings forward. Thank you\, and best of luck to all applicants. \n 
URL:https://www.boxhillburwoodrotary.org.au/event/community-grants-2026-open/
LOCATION:VIC
ATTACH;FMTTYPE=image/jpeg:https://www.boxhillburwoodrotary.org.au/wp-content/uploads/2026/01/Community-Grants-Program26.jpg
END:VEVENT
BEGIN:VEVENT
DTSTART;TZID=Australia/Melbourne:20260407T183000
DTEND;TZID=Australia/Melbourne:20260407T193000
DTSTAMP:20260422T040241
CREATED:20260302T022900Z
LAST-MODIFIED:20260402T050332Z
UID:5025-1775586600-1775590200@www.boxhillburwoodrotary.org.au
SUMMARY:Guest Speaker - Imran Karim - Eastern Health Foundation
DESCRIPTION:Join us as we hear from Imran of the Eastern Health Foundation with an update on the Biplane Angiogram Project that our club has fundraised to support of the last few years \nPlease Note Meeting will be held in the Sports Bar\n6:15 pm for 6:30pm start\, 7th April\, 2026\nOr join via Zoom on link on home page\nDinner is available in the RSL Bistro following the meeting.
URL:https://www.boxhillburwoodrotary.org.au/event/guest-speaker-imran-karim-eastern-health-foundation/
LOCATION:Box Hill RSL\, 26-28 Nelson Road\, Box Hill\, VIC\, 3128\, Australia
ATTACH;FMTTYPE=image/jpeg:https://www.boxhillburwoodrotary.org.au/wp-content/uploads/2024/06/biplane.jpg
END:VEVENT
BEGIN:VEVENT
DTSTART;TZID=Australia/Melbourne:20260412T080000
DTEND;TZID=Australia/Melbourne:20260412T130000
DTSTAMP:20260422T040241
CREATED:20260302T024217Z
LAST-MODIFIED:20260302T024217Z
UID:5031-1775980800-1775998800@www.boxhillburwoodrotary.org.au
SUMMARY:Whitehorse Farmers Market
DESCRIPTION:The market has been run by Rotarian volunteers each and every month since 2006 and is held in the 2nd Sunday of the month. \nThe Whitehorse Farmers’ Market provides the community with direct access to fresh farm-sourced and organic food products and gives suppliers a local venue for business. \nIt has a wide range of stalls and a good balance of produce from fruit\, vegetables and meats through to bread\, cakes\, pasta\, eggs\, chutneys and olive oils etc. You can also enjoy a bacon & egg sandwich and a freshly brewed coffee \nThe market is operated by the combined Whitehorse Rotary Group on behalf of Council. \nThe whole community receives a range of economic\, social and health benefits from the market with a commitment by Rotary to put all the funds they raise towards community projects in Whitehorse. \nThe Whitehorse Rotary Group comprises the Rotaract Club of Whitehorse and the Rotary Clubs of Box Hill\, Box Hill Central\, Forest Hill\, Mitcham\, Mont Albert and Surrey Hills (MASH) and Nunawading. \nPlastic Bag Free Market – The Farmers’ Market is a ‘plastic bag free market’ so please do not forget to bring along your own re-usable bags. \nThe market is held in the grounds of the Nunawading Civic Centre\, Maroondah
URL:https://www.boxhillburwoodrotary.org.au/event/whitehorse-farmers-market-32/
LOCATION:Whitehorse Civic Centre\, 379 Whitehorse Road\, Nunawading\, VIC\, Australia
ATTACH;FMTTYPE=image/jpeg:https://www.boxhillburwoodrotary.org.au/wp-content/uploads/2022/10/whitehorse-market-darryls-peanut-butter-stall.jpg
END:VEVENT
BEGIN:VEVENT
DTSTART;TZID=Australia/Melbourne:20260421T183000
DTEND;TZID=Australia/Melbourne:20260421T193000
DTSTAMP:20260422T040241
CREATED:20260302T023835Z
LAST-MODIFIED:20260420T065846Z
UID:5028-1776796200-1776799800@www.boxhillburwoodrotary.org.au
SUMMARY:Guest Speaker - Jonah Smart - Box Hill Miniature Railway
DESCRIPTION:Join us as we hear from Jens Neelsen of the Box Hill Miniature Railway\, a local treasurer in Box Hill. \nThe Box Hill Miniature Railway is one of our community’s quiet treasures — a volunteer‑run railway that has been delighting families for decades. Operated by passionate enthusiasts\, it offers beautifully maintained miniature trains\, a welcoming atmosphere\, and a place where children and adults alike can experience the joy of rail in a hands‑on way. It’s a wonderful example of community spirit in action\, and we’re proud to have it as part of the fabric of Box Hill. \nMeeting in the Upton Room\, Box Hill RSL\n6:15 pm for 6:30pm start\, 21st April\, 2026 \nOr join via Zoom on link on home page\nDinner is available in the RSL Bistro following the meeting.
URL:https://www.boxhillburwoodrotary.org.au/event/guest-speaker-jens-neelsen-box-hill-miniature-railway/
LOCATION:Box Hill RSL\, 26-28 Nelson Road\, Box Hill\, VIC\, 3128\, Australia
CATEGORIES:Guest Speakers
ATTACH;FMTTYPE=image/jpeg:https://www.boxhillburwoodrotary.org.au/wp-content/uploads/2026/03/ico-bhmr.jpg
END:VEVENT
BEGIN:VEVENT
DTSTART;TZID=Australia/Melbourne:20260505T183000
DTEND;TZID=Australia/Melbourne:20260505T193000
DTSTAMP:20260422T040241
CREATED:20260302T031058Z
LAST-MODIFIED:20260302T031213Z
UID:5051-1778005800-1778009400@www.boxhillburwoodrotary.org.au
SUMMARY:Guest Speaker - Michael Zamani  - True Hearing
DESCRIPTION:Join us as we hear from Michael Zamani from True Hearing. \nMichael is the business director and audiology clinician at True Hearing. Michael specialises in providing personalised hearing solutions using the latest and most discreet technology available.\nMichael’s areas of expertise include hearing rehabilitation\, auditory counseling\, and dispensing hearing aids and assistive listening technologies for adults.\nHe is a full member of the Australian College of Audiology(AcAud) and Hearing Aid Audiologist Society(HAASA). \nMeeting in the Upton Room\, Box Hill RSL\n6:15 pm for 6:30pm start\, 5th May\, 2026 \nOr join via Zoom on link on home page\nDinner is available in the RSL Bistro following the meeting.
URL:https://www.boxhillburwoodrotary.org.au/event/guest-speaker-michael-zamani-true-hearing/
LOCATION:Box Hill RSL\, 26-28 Nelson Road\, Box Hill\, VIC\, 3128\, Australia
CATEGORIES:Guest Speakers
ATTACH;FMTTYPE=image/jpeg:https://www.boxhillburwoodrotary.org.au/wp-content/uploads/2026/03/Facebook-Post-2.jpg
END:VEVENT
BEGIN:VEVENT
DTSTART;TZID=Australia/Melbourne:20260510T080000
DTEND;TZID=Australia/Melbourne:20260510T130000
DTSTAMP:20260422T040241
CREATED:20260302T024414Z
LAST-MODIFIED:20260302T024414Z
UID:5033-1778400000-1778418000@www.boxhillburwoodrotary.org.au
SUMMARY:Whitehorse Farmers Market
DESCRIPTION:The market has been run by Rotarian volunteers each and every month since 2006 and is held in the 2nd Sunday of the month. \nThe Whitehorse Farmers’ Market provides the community with direct access to fresh farm-sourced and organic food products and gives suppliers a local venue for business. \nIt has a wide range of stalls and a good balance of produce from fruit\, vegetables and meats through to bread\, cakes\, pasta\, eggs\, chutneys and olive oils etc. You can also enjoy a bacon & egg sandwich and a freshly brewed coffee \nThe market is operated by the combined Whitehorse Rotary Group on behalf of Council. \nThe whole community receives a range of economic\, social and health benefits from the market with a commitment by Rotary to put all the funds they raise towards community projects in Whitehorse. \nThe Whitehorse Rotary Group comprises the Rotaract Club of Whitehorse and the Rotary Clubs of Box Hill\, Box Hill Central\, Forest Hill\, Mitcham\, Mont Albert and Surrey Hills (MASH) and Nunawading. \nPlastic Bag Free Market – The Farmers’ Market is a ‘plastic bag free market’ so please do not forget to bring along your own re-usable bags. \nThe market is held in the grounds of the Nunawading Civic Centre\, Maroondah
URL:https://www.boxhillburwoodrotary.org.au/event/whitehorse-farmers-market-33/
LOCATION:Whitehorse Civic Centre\, 379 Whitehorse Road\, Nunawading\, VIC\, Australia
ATTACH;FMTTYPE=image/jpeg:https://www.boxhillburwoodrotary.org.au/wp-content/uploads/2022/10/whitehorse-market-darryls-peanut-butter-stall.jpg
END:VEVENT
BEGIN:VEVENT
DTSTART;TZID=Australia/Melbourne:20260519T183000
DTEND;TZID=Australia/Melbourne:20260519T193000
DTSTAMP:20260422T040241
CREATED:20260302T031524Z
LAST-MODIFIED:20260302T065112Z
UID:5055-1779215400-1779219000@www.boxhillburwoodrotary.org.au
SUMMARY:Community Grants Presentations
DESCRIPTION:Join us for a wonderful community meeting as we present our Community Grants for 2026. \nEach year\, our club proudly supports local organisations\, schools\, and community groups who are making a real difference in the lives of people across Box Hill\, Burwood\, and surrounding neighbourhoods. These grants help bring to life projects that strengthen community wellbeing\, enhance social connection\, and create positive\, lasting impact. \nMeeting in the Upton Room\, Box Hill RSL\n6:15 pm for 6:30pm start\, 19th May\, 2026 \nOr join via Zoom on link on home page\nDinner is available in the RSL Bistro following the meeting.
URL:https://www.boxhillburwoodrotary.org.au/event/community-grants-presentations/
LOCATION:Box Hill RSL\, 26-28 Nelson Road\, Box Hill\, VIC\, 3128\, Australia
CATEGORIES:Community Grants
ATTACH;FMTTYPE=image/png:https://www.boxhillburwoodrotary.org.au/wp-content/uploads/2023/03/CGRANTS1-210-×-99mm.png
END:VEVENT
BEGIN:VEVENT
DTSTART;TZID=Australia/Melbourne:20260614T080000
DTEND;TZID=Australia/Melbourne:20260614T130000
DTSTAMP:20260422T040241
CREATED:20260302T024708Z
LAST-MODIFIED:20260302T024802Z
UID:5035-1781424000-1781442000@www.boxhillburwoodrotary.org.au
SUMMARY:Whitehorse Farmers Market
DESCRIPTION:The market has been run by Rotarian volunteers each and every month since 2006 and is held in the 2nd Sunday of the month. \nThe Whitehorse Farmers’ Market provides the community with direct access to fresh farm-sourced and organic food products and gives suppliers a local venue for business. \nIt has a wide range of stalls and a good balance of produce from fruit\, vegetables and meats through to bread\, cakes\, pasta\, eggs\, chutneys and olive oils etc. You can also enjoy a bacon & egg sandwich and a freshly brewed coffee \nThe market is operated by the combined Whitehorse Rotary Group on behalf of Council. \nThe whole community receives a range of economic\, social and health benefits from the market with a commitment by Rotary to put all the funds they raise towards community projects in Whitehorse. \nThe Whitehorse Rotary Group comprises the Rotaract Club of Whitehorse and the Rotary Clubs of Box Hill\, Box Hill Central\, Forest Hill\, Mitcham\, Mont Albert and Surrey Hills (MASH) and Nunawading. \nPlastic Bag Free Market – The Farmers’ Market is a ‘plastic bag free market’ so please do not forget to bring along your own re-usable bags. \nThe market is held in the grounds of the Nunawading Civic Centre\, Maroondah
URL:https://www.boxhillburwoodrotary.org.au/event/whitehorse-farmers-market-34/
LOCATION:Whitehorse Civic Centre\, 379 Whitehorse Road\, Nunawading\, VIC\, Australia
CATEGORIES:Whitehorse Farmers Market
ATTACH;FMTTYPE=image/jpeg:https://www.boxhillburwoodrotary.org.au/wp-content/uploads/2022/10/whitehorse-market-darryls-peanut-butter-stall.jpg
END:VEVENT
BEGIN:VEVENT
DTSTART;TZID=Australia/Melbourne:20260712T080000
DTEND;TZID=Australia/Melbourne:20260712T130000
DTSTAMP:20260422T040241
CREATED:20260302T024942Z
LAST-MODIFIED:20260302T024951Z
UID:5037-1783843200-1783861200@www.boxhillburwoodrotary.org.au
SUMMARY:Whitehorse Farmers Market
DESCRIPTION:The market has been run by Rotarian volunteers each and every month since 2006 and is held in the 2nd Sunday of the month. \nThe Whitehorse Farmers’ Market provides the community with direct access to fresh farm-sourced and organic food products and gives suppliers a local venue for business. \nIt has a wide range of stalls and a good balance of produce from fruit\, vegetables and meats through to bread\, cakes\, pasta\, eggs\, chutneys and olive oils etc. You can also enjoy a bacon & egg sandwich and a freshly brewed coffee \nThe market is operated by the combined Whitehorse Rotary Group on behalf of Council. \nThe whole community receives a range of economic\, social and health benefits from the market with a commitment by Rotary to put all the funds they raise towards community projects in Whitehorse. \nThe Whitehorse Rotary Group comprises the Rotaract Club of Whitehorse and the Rotary Clubs of Box Hill\, Box Hill Central\, Forest Hill\, Mitcham\, Mont Albert and Surrey Hills (MASH) and Nunawading. \nPlastic Bag Free Market – The Farmers’ Market is a ‘plastic bag free market’ so please do not forget to bring along your own re-usable bags. \nThe market is held in the grounds of the Nunawading Civic Centre\, Maroondah
URL:https://www.boxhillburwoodrotary.org.au/event/whitehorse-farmers-market-35/
LOCATION:Whitehorse Civic Centre\, 379 Whitehorse Road\, Nunawading\, VIC\, Australia
CATEGORIES:Whitehorse Farmers Market
ATTACH;FMTTYPE=image/jpeg:https://www.boxhillburwoodrotary.org.au/wp-content/uploads/2022/10/whitehorse-market-darryls-peanut-butter-stall.jpg
END:VEVENT
BEGIN:VEVENT
DTSTART;TZID=Australia/Melbourne:20260809T080000
DTEND;TZID=Australia/Melbourne:20260809T130000
DTSTAMP:20260422T040241
CREATED:20260302T025235Z
LAST-MODIFIED:20260302T025235Z
UID:5039-1786262400-1786280400@www.boxhillburwoodrotary.org.au
SUMMARY:Whitehorse Farmers Market
DESCRIPTION:The market has been run by Rotarian volunteers each and every month since 2006 and is held in the 2nd Sunday of the month. \nThe Whitehorse Farmers’ Market provides the community with direct access to fresh farm-sourced and organic food products and gives suppliers a local venue for business. \nIt has a wide range of stalls and a good balance of produce from fruit\, vegetables and meats through to bread\, cakes\, pasta\, eggs\, chutneys and olive oils etc. You can also enjoy a bacon & egg sandwich and a freshly brewed coffee \nThe market is operated by the combined Whitehorse Rotary Group on behalf of Council. \nThe whole community receives a range of economic\, social and health benefits from the market with a commitment by Rotary to put all the funds they raise towards community projects in Whitehorse. \nThe Whitehorse Rotary Group comprises the Rotaract Club of Whitehorse and the Rotary Clubs of Box Hill\, Box Hill Central\, Forest Hill\, Mitcham\, Mont Albert and Surrey Hills (MASH) and Nunawading. \nPlastic Bag Free Market – The Farmers’ Market is a ‘plastic bag free market’ so please do not forget to bring along your own re-usable bags. \nThe market is held in the grounds of the Nunawading Civic Centre\, Maroondah Hwy
URL:https://www.boxhillburwoodrotary.org.au/event/whitehorse-farmers-market-36/
LOCATION:Whitehorse Civic Centre\, 379 Whitehorse Road\, Nunawading\, VIC\, Australia
CATEGORIES:Whitehorse Farmers Market
ATTACH;FMTTYPE=image/jpeg:https://www.boxhillburwoodrotary.org.au/wp-content/uploads/2022/10/whitehorse-market-darryls-peanut-butter-stall.jpg
END:VEVENT
BEGIN:VEVENT
DTSTART;TZID=Australia/Melbourne:20260913T080000
DTEND;TZID=Australia/Melbourne:20260913T130000
DTSTAMP:20260422T040241
CREATED:20260302T025453Z
LAST-MODIFIED:20260302T025528Z
UID:5041-1789286400-1789304400@www.boxhillburwoodrotary.org.au
SUMMARY:Whitehorse Farmers Market
DESCRIPTION:The market has been run by Rotarian volunteers each and every month since 2006 and is held in the 2nd Sunday of the month. \nThe Whitehorse Farmers’ Market provides the community with direct access to fresh farm-sourced and organic food products and gives suppliers a local venue for business. \nIt has a wide range of stalls and a good balance of produce from fruit\, vegetables and meats through to bread\, cakes\, pasta\, eggs\, chutneys and olive oils etc. You can also enjoy a bacon & egg sandwich and a freshly brewed coffee \nThe market is operated by the combined Whitehorse Rotary Group on behalf of Council. \nThe whole community receives a range of economic\, social and health benefits from the market with a commitment by Rotary to put all the funds they raise towards community projects in Whitehorse. \nThe Whitehorse Rotary Group comprises the Rotaract Club of Whitehorse and the Rotary Clubs of Box Hill\, Box Hill Central\, Forest Hill\, Mitcham\, Mont Albert and Surrey Hills (MASH) and Nunawading. \nPlastic Bag Free Market – The Farmers’ Market is a ‘plastic bag free market’ so please do not forget to bring along your own re-usable bags. \nThe market is held in the grounds of the Nunawading Civic Centre\, Maroondah Hwy
URL:https://www.boxhillburwoodrotary.org.au/event/whitehorse-farmers-market-37/
LOCATION:Whitehorse Civic Centre\, 379 Whitehorse Road\, Nunawading\, VIC\, Australia
CATEGORIES:Whitehorse Farmers Market
ATTACH;FMTTYPE=image/jpeg:https://www.boxhillburwoodrotary.org.au/wp-content/uploads/2022/10/whitehorse-market-darryls-peanut-butter-stall.jpg
END:VEVENT
BEGIN:VEVENT
DTSTART;TZID=Australia/Melbourne:20261011T080000
DTEND;TZID=Australia/Melbourne:20261011T130000
DTSTAMP:20260422T040241
CREATED:20260302T025720Z
LAST-MODIFIED:20260302T025729Z
UID:5043-1791705600-1791723600@www.boxhillburwoodrotary.org.au
SUMMARY:Whitehorse Farmers Market
DESCRIPTION:The market has been run by Rotarian volunteers each and every month since 2006 and is held in the 2nd Sunday of the month. \nThe Whitehorse Farmers’ Market provides the community with direct access to fresh farm-sourced and organic food products and gives suppliers a local venue for business. \nIt has a wide range of stalls and a good balance of produce from fruit\, vegetables and meats through to bread\, cakes\, pasta\, eggs\, chutneys and olive oils etc. You can also enjoy a bacon & egg sandwich and a freshly brewed coffee \nThe market is operated by the combined Whitehorse Rotary Group on behalf of Council. \nThe whole community receives a range of economic\, social and health benefits from the market with a commitment by Rotary to put all the funds they raise towards community projects in Whitehorse. \nThe Whitehorse Rotary Group comprises the Rotaract Club of Whitehorse and the Rotary Clubs of Box Hill\, Box Hill Central\, Forest Hill\, Mitcham\, Mont Albert and Surrey Hills (MASH) and Nunawading. \nPlastic Bag Free Market – The Farmers’ Market is a ‘plastic bag free market’ so please do not forget to bring along your own re-usable bags. \nThe market is held in the grounds of the Nunawading Civic Centre\, Maroondah Hwy
URL:https://www.boxhillburwoodrotary.org.au/event/whitehorse-farmers-market-38/
LOCATION:Whitehorse Civic Centre\, 379 Whitehorse Road\, Nunawading\, VIC\, Australia
CATEGORIES:Whitehorse Farmers Market
ATTACH;FMTTYPE=image/jpeg:https://www.boxhillburwoodrotary.org.au/wp-content/uploads/2022/10/whitehorse-market-darryls-peanut-butter-stall.jpg
END:VEVENT
BEGIN:VEVENT
DTSTART;TZID=Australia/Melbourne:20261108T080000
DTEND;TZID=Australia/Melbourne:20261108T130000
DTSTAMP:20260422T040241
CREATED:20260302T025923Z
LAST-MODIFIED:20260302T025923Z
UID:5045-1794124800-1794142800@www.boxhillburwoodrotary.org.au
SUMMARY:Whitehorse Farmers Market
DESCRIPTION:The market has been run by Rotarian volunteers each and every month since 2006 and is held in the 2nd Sunday of the month. \nThe Whitehorse Farmers’ Market provides the community with direct access to fresh farm-sourced and organic food products and gives suppliers a local venue for business. \nIt has a wide range of stalls and a good balance of produce from fruit\, vegetables and meats through to bread\, cakes\, pasta\, eggs\, chutneys and olive oils etc. You can also enjoy a bacon & egg sandwich and a freshly brewed coffee \nThe market is operated by the combined Whitehorse Rotary Group on behalf of Council. \nThe whole community receives a range of economic\, social and health benefits from the market with a commitment by Rotary to put all the funds they raise towards community projects in Whitehorse. \nThe Whitehorse Rotary Group comprises the Rotaract Club of Whitehorse and the Rotary Clubs of Box Hill\, Box Hill Central\, Forest Hill\, Mitcham\, Mont Albert and Surrey Hills (MASH) and Nunawading. \nPlastic Bag Free Market – The Farmers’ Market is a ‘plastic bag free market’ so please do not forget to bring along your own re-usable bags. \nThe market is held in the grounds of the Nunawading Civic Centre\, Maroondah Hwy
URL:https://www.boxhillburwoodrotary.org.au/event/whitehorse-farmers-market-39/
LOCATION:Whitehorse Civic Centre\, 379 Whitehorse Road\, Nunawading\, VIC\, Australia
CATEGORIES:Whitehorse Farmers Market
ATTACH;FMTTYPE=image/jpeg:https://www.boxhillburwoodrotary.org.au/wp-content/uploads/2022/10/whitehorse-market-darryls-peanut-butter-stall.jpg
END:VEVENT
BEGIN:VEVENT
DTSTART;TZID=Australia/Melbourne:20261213T080000
DTEND;TZID=Australia/Melbourne:20261213T130000
DTSTAMP:20260422T040241
CREATED:20260302T030130Z
LAST-MODIFIED:20260302T030130Z
UID:5047-1797148800-1797166800@www.boxhillburwoodrotary.org.au
SUMMARY:Whitehorse Farmers Market
DESCRIPTION:The market has been run by Rotarian volunteers each and every month since 2006 and is held in the 2nd Sunday of the month. \nThe Whitehorse Farmers’ Market provides the community with direct access to fresh farm-sourced and organic food products and gives suppliers a local venue for business. \nIt has a wide range of stalls and a good balance of produce from fruit\, vegetables and meats through to bread\, cakes\, pasta\, eggs\, chutneys and olive oils etc. You can also enjoy a bacon & egg sandwich and a freshly brewed coffee \nThe market is operated by the combined Whitehorse Rotary Group on behalf of Council. \nThe whole community receives a range of economic\, social and health benefits from the market with a commitment by Rotary to put all the funds they raise towards community projects in Whitehorse. \nThe Whitehorse Rotary Group comprises the Rotaract Club of Whitehorse and the Rotary Clubs of Box Hill\, Box Hill Central\, Forest Hill\, Mitcham\, Mont Albert and Surrey Hills (MASH) and Nunawading. \nPlastic Bag Free Market – The Farmers’ Market is a ‘plastic bag free market’ so please do not forget to bring along your own re-usable bags. \nThe market is held in the grounds of the Nunawading Civic Centre\, Maroondah Hwy
URL:https://www.boxhillburwoodrotary.org.au/event/whitehorse-farmers-market-40/
LOCATION:Whitehorse Civic Centre\, 379 Whitehorse Road\, Nunawading\, VIC\, Australia
ATTACH;FMTTYPE=image/jpeg:https://www.boxhillburwoodrotary.org.au/wp-content/uploads/2022/10/whitehorse-market-darryls-peanut-butter-stall.jpg
END:VEVENT
BEGIN:VEVENT
DTSTART;TZID=Australia/Melbourne:20270110T080000
DTEND;TZID=Australia/Melbourne:20270110T130000
DTSTAMP:20260422T040241
CREATED:20260302T030351Z
LAST-MODIFIED:20260302T030351Z
UID:5049-1799568000-1799586000@www.boxhillburwoodrotary.org.au
SUMMARY:Whitehorse Farmers Market
DESCRIPTION:The market has been run by Rotarian volunteers each and every month since 2006 and is held in the 2nd Sunday of the month. \nThe Whitehorse Farmers’ Market provides the community with direct access to fresh farm-sourced and organic food products and gives suppliers a local venue for business. \nIt has a wide range of stalls and a good balance of produce from fruit\, vegetables and meats through to bread\, cakes\, pasta\, eggs\, chutneys and olive oils etc. You can also enjoy a bacon & egg sandwich and a freshly brewed coffee \nThe market is operated by the combined Whitehorse Rotary Group on behalf of Council. \nThe whole community receives a range of economic\, social and health benefits from the market with a commitment by Rotary to put all the funds they raise towards community projects in Whitehorse. \nThe Whitehorse Rotary Group comprises the Rotaract Club of Whitehorse and the Rotary Clubs of Box Hill\, Box Hill Central\, Forest Hill\, Mitcham\, Mont Albert and Surrey Hills (MASH) and Nunawading. \nPlastic Bag Free Market – The Farmers’ Market is a ‘plastic bag free market’ so please do not forget to bring along your own re-usable bags. \nThe market is held in the grounds of the Nunawading Civic Centre\, Maroondah Hwy
URL:https://www.boxhillburwoodrotary.org.au/event/whitehorse-farmers-market-41/
LOCATION:Whitehorse Civic Centre\, 379 Whitehorse Road\, Nunawading\, VIC\, Australia
CATEGORIES:Whitehorse Farmers Market
ATTACH;FMTTYPE=image/jpeg:https://www.boxhillburwoodrotary.org.au/wp-content/uploads/2022/10/whitehorse-market-darryls-peanut-butter-stall.jpg
END:VEVENT
END:VCALENDAR