BEGIN:VCALENDAR
VERSION:2.0
PRODID:-//Rotary Club of Box Hill Burwood - ECPv6.15.20//NONSGML v1.0//EN
CALSCALE:GREGORIAN
METHOD:PUBLISH
X-ORIGINAL-URL:https://www.boxhillburwoodrotary.org.au
X-WR-CALDESC:Events for Rotary Club of Box Hill Burwood
REFRESH-INTERVAL;VALUE=DURATION:PT1H
X-Robots-Tag:noindex
X-PUBLISHED-TTL:PT1H
BEGIN:VTIMEZONE
TZID:Australia/Melbourne
BEGIN:STANDARD
TZOFFSETFROM:+1100
TZOFFSETTO:+1000
TZNAME:AEST
DTSTART:20250405T160000
END:STANDARD
BEGIN:DAYLIGHT
TZOFFSETFROM:+1000
TZOFFSETTO:+1100
TZNAME:AEDT
DTSTART:20251004T160000
END:DAYLIGHT
BEGIN:STANDARD
TZOFFSETFROM:+1100
TZOFFSETTO:+1000
TZNAME:AEST
DTSTART:20260404T160000
END:STANDARD
BEGIN:DAYLIGHT
TZOFFSETFROM:+1000
TZOFFSETTO:+1100
TZNAME:AEDT
DTSTART:20261003T160000
END:DAYLIGHT
BEGIN:STANDARD
TZOFFSETFROM:+1100
TZOFFSETTO:+1000
TZNAME:AEST
DTSTART:20270403T160000
END:STANDARD
BEGIN:DAYLIGHT
TZOFFSETFROM:+1000
TZOFFSETTO:+1100
TZNAME:AEDT
DTSTART:20271002T160000
END:DAYLIGHT
END:VTIMEZONE
BEGIN:VEVENT
DTSTART;TZID=Australia/Melbourne:20260201T090000
DTEND;TZID=Australia/Melbourne:20260410T170000
DTSTAMP:20260422T054830
CREATED:20260127T234646Z
LAST-MODIFIED:20260127T235435Z
UID:5003-1769936400-1775840400@www.boxhillburwoodrotary.org.au
SUMMARY:Community Grants 2026 Open
DESCRIPTION:Each year\, our club proudly supports local organisations\, schools\, and community groups who are making a real difference in the lives of people across Box Hill\, Burwood\, and surrounding neighbourhoods. These grants help bring to life projects that strengthen community wellbeing\, enhance social connection\, and create positive\, lasting impact. \nIf your organisation is working on an initiative that aligns with Rotary’s values — whether it’s supporting youth\, improving mental health\, fostering inclusion\, promoting the arts\, protecting the environment\, or addressing local needs — we encourage you to apply. \nKey details: \n\nApplications open today\nGrants are available for a wide range of community-focused projects\nAll eligible groups are warmly invited to submit a proposal\nFull guidelines and application forms are available on our website\n\nRotary is built on the belief that when passionate people come together\, great things happen. We look forward to partnering with local groups who share our commitment to service\, innovation\, and community spirit. \nIf you have any questions or need assistance with your application\, please reach out — we’re here to help. \nWe can’t wait to see the inspiring projects our community brings forward. Thank you\, and best of luck to all applicants. \n 
URL:https://www.boxhillburwoodrotary.org.au/event/community-grants-2026-open/
LOCATION:VIC
ATTACH;FMTTYPE=image/jpeg:https://www.boxhillburwoodrotary.org.au/wp-content/uploads/2026/01/Community-Grants-Program26.jpg
END:VEVENT
BEGIN:VEVENT
DTSTART;TZID=Australia/Melbourne:20260217T183000
DTEND;TZID=Australia/Melbourne:20260217T193000
DTSTAMP:20260422T054830
CREATED:20260213T235428Z
LAST-MODIFIED:20260213T235428Z
UID:5011-1771353000-1771356600@www.boxhillburwoodrotary.org.au
SUMMARY:Next Meeting - 17th February -Maureen Boaler - Story Dogs
DESCRIPTION:Join us when we welcome Maureen Boaler from Story Dogs to our club. \nMaureen Boaler is a regional co-ordinator for the Story Dogs program based in Melbourne. She has been volunteering with her dog for 10 years. We look to her providing us with a wonderful insight into the amazing impact that dogs can have in assisting students learning to read. \nRecently our Rotary club has become a sponsor of the Story Dogs program at St Scholastica Primary School in Burwood and so this is a great opportunity to find out more about the program. \nWe look forward and to hearing from Maureen on Tuesday. \nMeeting in the Upton Room\, Box Hill RSL\n6pm for 6:15pm start\, 17th February\, 2026 \nOr join via Zoom on link on home page \nDinner is available in the RSL Bistro following the meeting.
URL:https://www.boxhillburwoodrotary.org.au/event/next-meeting-17th-february-maureen-boaler-story-dogs/
LOCATION:Box Hill RSL\, 26-28 Nelson Road\, Box Hill\, VIC\, 3128\, Australia
CATEGORIES:Guest Speakers
ATTACH;FMTTYPE=image/jpeg:https://www.boxhillburwoodrotary.org.au/wp-content/uploads/2026/02/story-dogs.jpg
END:VEVENT
END:VCALENDAR